Workbook

Sheet Summary
B2: Project Name: | C2: Development of ASEAN Guidelines on AI-Generated and Digital Trademarks
B3: Task Code
B4: Task Name
B5: Currency: | C5: AUD
B7: Activity | C7: Activity Name | D7: Total Cost | E7: Remarks
D8: AUD
B9: 1 | C9: One-day in-country training workshop in Selangor, Malaysia | D9: =Selangor!M8 -> 15269.406
B10: 2 | C10: One-day in-country training workshop in Jakarta, Indonesia | D10: =Jakarta!M8 -> 14241.911
B11: 3 | C11: Photography and production of a project impact video | D11: =PhotoVideo!M8 -> 6000
B12: TOTAL (AUD) | D12: =SUM(D9:D11) -> 35511.317

Sheet 4.2. Event 1
B2: Activity Name | C2: =Summary!C2 -> Development of ASEAN Guidelines on AI-Generated and Digital Trademarks
B3: Task Code
B4: Task Name
B5: Country Office | C5: Indonesia
B7: Activity Code | C7: Activity Name | D7: Category | E7: Unit | F7: Quantity | G7: Times | I7: Currency | J7: Rate/unit | K7: Currency | L7: Total Cost | M7: Total Cost | N7: Total | O7: Budget Allocation (AUD) | Q7: Remarks
M8: AUD | N8: Per Activity | O8: FY 25-26 | P8: FY 26-27
B9: 4.2 | C9: Workshop #1
B10: 4.2.1 | C10: Professional fee | N10: =IFERROR(SUMIFS(M:M, B:B, B10 & "*"), "") -> 2752.7145
B11: 4.2.1.1 | C11: Professional fee | D11: Professional Services | E11: Day | F11: 2 | G11: 2 | I11: USD | J11: 400 | K11: =I11 -> USD | L11: =F11*G11*J11 -> 1600 | M11: =L11/_xlfn.XLOOKUP(K11,Validation!$F$3:$F$12,Validation!$G$3:$G$12,0) -> 2446.8573
B12: 4.2.1.2 | C12: Transport Consultant | D12: Airfare | E12: Return | F12: 2 | G12: 1 | I12: USD | J12: 100 | K12: =I12 -> USD | L12: =F12*G12*J12 -> 200 | M12: =L12/_xlfn.XLOOKUP(K12,Validation!$F$3:$F$12,Validation!$G$3:$G$12,0) -> 305.85716
B13: 4.2.2 | C13: Participant-related expenses | K13: =I13 -> 0 | N13: =IFERROR(SUMIFS(M:M, B:B, B13 & "*"), "") -> 5927.8012 | Q13: The way we categorize it at the moment is not clear, this is my suggestion
B14: 4.2.2.1 | C14: Local Participant Perdiem | D14: Local Per Diem | E14: Person | F14: 10 | G14: 2 | I14: USD | J14: 10 | K14: =I14 -> USD | L14: =F14*G14*J14 -> 200 | M14: =L14/_xlfn.XLOOKUP(K14,Validation!$F$3:$F$12,Validation!$G$3:$G$12,0) -> 305.85716
B15: 4.2.2.2 | C15: International Participant Perdiem | D15: Overseas Per Diem | E15: Person | F15: 2 | G15: 5 | I15: USD | J15: ='Participants Cost'!F4 -> 170 | K15: =I15 -> USD | L15: =F15*G15*J15 -> 1700 | M15: =L15/_xlfn.XLOOKUP(K15,Validation!$F$3:$F$12,Validation!$G$3:$G$12,0) -> 2599.7859
B16: 4.2.2.3 | C16: Hotel Accommodation | D16: Accommodation | E16: Person | F16: 2 | G16: 4 | I16: USD | J16: ='Participants Cost'!E4 -> 170 | K16: =I16 -> USD | L16: =F16*G16*J16 -> 1360 | M16: =L16/_xlfn.XLOOKUP(K16,Validation!$F$3:$F$12,Validation!$G$3:$G$12,0) -> 2079.8287
B17: 4.2.2.4 | C17: Local Transportation Allowance | D17: Local Transportation | K17: =I17 -> 0 | L17: =F17*G17*J17 -> 0
B18: 4.2.2.5 | C18: Airfare - Consultants | D18: Airfare | K18: =I18 -> 0 | L18: =F18*G18*J18 -> 0 | Q18: This repeats line 12
B19: 4.2.2.6 | C19: Airfare - RT4D / ASEC | D19: Airfare | K19: =I19 -> 0 | L19: =F19*G19*J19 -> 0
B20: 4.2.2.7 | C20: Airfare - Domestic | D20: Airfare | E20: Return | F20: 2 | G20: 1 | I20: IDR | J20: 5000000 | K20: =I20 -> IDR | L20: =F20*G20*J20 -> 10000000 | M20: =L20/_xlfn.XLOOKUP(K20,Validation!$F$3:$F$12,Validation!$G$3:$G$12,0) -> 942.32944
B21: 4.2.3 | C21: Meeting packages (F&B and hotel venue) | D21: Meetings & Conferences | E21: Lumpsum | F21: 100 | G21: 2 | I21: IDR | J21: 750000 | K21: =I21 -> IDR | L21: =F21*G21*J21 -> 150000000 | M21: =L21/_xlfn.XLOOKUP(K21,Validation!$F$3:$F$12,Validation!$G$3:$G$12,0) -> 14134.942 | N21: =IFERROR(SUMIFS(M:M, B:B, B21 & "*"), "") -> 14134.942
B22: 4.2.3.1 | C22: Food and beverages | D22: Meetings & Conferences
B23: 4.2.3.2 | C23: Hotel venue | D23: Meetings & Conferences
B24: 4.2.4 | C24: Event logistics, equipments and HR support | D24: Meetings & Conferences | K24: =I24 -> 0 | L24: =F24*G24*J24 -> 0 | N24: =IFERROR(SUMIFS(M:M, B:B, B24 & "*"), "") -> 0
B25: 4.2.4.1 | C25: Technical equipment (Backdrop, screen, sound system, mic, phone, simutaneous intepretation cabin, internet for hybrid, etc) | D25: Meetings & Conferences
B26: 4.2.4.2 | C26: HR support (reception, liaison, coordination, technical support, etc) | D26: Meetings & Conferences
B27: 4.2.4.3 | C27: Event Support - Photography and videos | D27: Meetings & Conferences
B28: 4.2.4.4 | C28: RT4D Branding and Stationaries | D28: Meetings & Conferences | K28: =I28 -> 0 | L28: =F28*G28*J28 -> 0
B29: 4.2.5 | C29: Site Visit | D29: Meetings & Conferences | K29: =I29 -> 0 | L29: =F29*G29*J29 -> 0
B30: 4.2.5.1 | C30: Site Visit - Car Rent
B31: 4.2.5.2 | C31: Site Visit - Equipment | D31: Meetings & Conferences | K31: =I31 -> 0 | L31: =F31*G31*J31 -> 0
B32: 4.2.5.3 | C32: Site Visit - Refreshment | D32: Meetings & Conferences | K32: =I32 -> 0 | L32: =F32*G32*J32 -> 0
B33: 4.2.6 | C33: Contigency | D33: Meetings & Conferences | K33: =I33 -> 0 | L33: =F33*G33*J33 -> 0
B34: 4.2.7 | C34: Event Management Cost | D34: Subcontractor-External | K34: =I34 -> 0 | L34: =F34*G34*J34 -> 0

Sheet Selangor
B2: Item: | C2: Financial Proposal for Event Organisation
B3: Activity Name: | C3: Development of ASEAN Guidelines on AI-Generated and Digital Trademarks
B4: Currency: | C4: MYR/AUD
B6: Activity Code | C6: Activity Name | D6: Category | E6: Unit | F6: Quantity | G6: Days | H6: Currency | I6: Rate/unit | J6: Currency | K6: Total Cost | L6: Total Cost | M6: Total | N6: Remarks
L7: AUD | M7: Per Activity (AUD)
B8: 4.2 | C8: Total Cost Estimate for One-day in-country training workshop in Selangor, Malaysia | M8: =M15+M20+M26+M44+M47+M50+M52 -> 15269.406
C9: Total number of attendants | F9: =SUM(F10:F13) -> 45
C10: Selangor-based domestic participants | E10: Person | F10: 40
C11: Domestic participants from other parts of Malaysia | E11: Person | F11: =F16 -> 0
C12: International participants | E12: Person | F12: =F26 -> 5
B15: 4.2.1 | C15: Expenses on Domestic participants from other parts of Malaysia (receipt-based reimburseable expenses) | L15: =SUM(L16:L19) -> 0 | M15: =L15 -> 0 | N15: Note for bidder: No expenditure is expected under this category.
B16: 4.2.1.1 | C16: Local participant allowances | D16: Local Per Diem | E16: Person | H16: MYR | J16: =H16 -> MYR | K16: 0 | L16: =K16/_xlfn.XLOOKUP(J16,Validation!$F$3:$F$12,Validation!$G$3:$G$12,0) -> 0
B17: 4.2.1.2 | C17: Accomodation for local participants | D17: Local Per Diem | E17: Person | H17: MYR | J17: =H17 -> MYR | K17: 0 | L17: =K17/_xlfn.XLOOKUP(J17,Validation!$F$3:$F$12,Validation!$G$3:$G$12,0) -> 0
B18: 4.2.1.3 | C18: Transportation for local participants (lumpsum per day) | D18: Local Per Diem | E18: Person | H18: MYR | J18: =H18 -> MYR | K18: 0 | L18: =K18/_xlfn.XLOOKUP(J18,Validation!$F$3:$F$12,Validation!$G$3:$G$12,0) -> 0
B20: 4.2.2 | C20: Expenses on International Participant (receipt-based reimburseable expenses) | J20: =H20 -> 0 | L20: =SUM(L21:L25) -> 4646.1556 | M20: =L20 -> 4646.1556
B21: 4.2.2.1 | C21: Participant Perdiem (3-day per diem) | D21: Overseas Per Diem | E21: Person | F21: =F26-F31 -> 5 | G21: 3 | H21: USD | I21: 75.11 | J21: =H21 -> USD | K21: =F21*G21*I21 -> 1126.65 | L21: =K21/_xlfn.XLOOKUP(J21,Validation!$F$3:$F$12,Validation!$G$3:$G$12,0) -> 1722.9699 | N21: Note for bidders: This budget is for costing purposes only. The actual payment will be based on participants' flight itineraries. RT4D will help calculate per diem for payment again when exact flight schedules are available.
B22: 4.2.2.2 | C22: Hotel Accommodation (2 nights) | D22: Accommodation | E22: Person | F22: =F26 -> 5 | G22: 2 | H22: MYR | I22: 500 | J22: =H22 -> MYR | K22: =F22*G22*I22 -> 5000 | L22: =K22/_xlfn.XLOOKUP(J22,Validation!$F$3:$F$12,Validation!$G$3:$G$12,0) -> 1805.0542 | N22: Note for bidders: This budget is for costing purposes only. The actual payment will be based on participants' actual receipts. The selected bidder must submit 3 hotel options for RT4D's approval.
B23: 4.2.2.3 | C23: Airport transfer in home country (2 ways) | D23: Local Transportation | E23: Person | F23: =F26 -> 5 | G23: 1 | H23: USD | I23: 40 | J23: =H23 -> USD | K23: =F23*G23*I23 -> 200 | L23: =K23/_xlfn.XLOOKUP(J23,Validation!$F$3:$F$12,Validation!$G$3:$G$12,0) -> 305.85716 | N23: Note for bidders: Actual arrangement can be discussed with travelling participants later. Receipt-based reimbursable expense.
B24: 4.2.2.4 | C24: Airport transfer in destination country (2 ways) | D24: Local Transportation | E24: Person | F24: 5 | G24: 1 | H24: MYR | I24: 450 | J24: =H24 -> MYR | K24: =F24*G24*I24 -> 2250 | L24: =K24/_xlfn.XLOOKUP(J24,Validation!$F$3:$F$12,Validation!$G$3:$G$12,0) -> 812.27437 | N24: Note for bidders: Actual arrangement will be decided with RT4D later.
B26: 4.2.3 | C26: Airfare - International round trip to Selangor City (receipt-based reimburseable expenses) | E26: Person | F26: =SUM(F28:F43) -> 5 | H26: USD | J26: =H26 -> USD | K26: =SUM(K28:K43) -> 1340 | L26: =SUM(L28:L43) -> 2049.243 | M26: =L26 -> 2049.243 | N26: Note for bidders: This budget is for costing purposes only. The actual payment will be based on participants' air ticket costs.
C27: Metrology Officials from FTA Parties | F27: =SUM(F28:F36) -> 0
C28: Cambodia (PNH) | D28: Airfare | E28: Person | G28: 1 | H28: USD | I28: 300 | J28: USD | K28: =F28*G28*I28 -> 0 | L28: =K28/_xlfn.XLOOKUP(J28,Validation!$F$3:$F$12,Validation!$G$3:$G$12,0) -> 0
C29: Indonesia (CGK) | D29: Airfare | E29: Person | G29: 1 | H29: USD | I29: 300 | J29: USD | K29: =F29*G29*I29 -> 0 | L29: =K29/_xlfn.XLOOKUP(J29,Validation!$F$3:$F$12,Validation!$G$3:$G$12,0) -> 0
C30: Lao PDR (VTE) | D30: Airfare | E30: Person | G30: 1 | H30: USD | I30: 300 | J30: USD | K30: =F30*G30*I30 -> 0 | L30: =K30/_xlfn.XLOOKUP(J30,Validation!$F$3:$F$12,Validation!$G$3:$G$12,0) -> 0
C31: Myanmar (RGN/NYT) | D31: Airfare | E31: Person | G31: 1 | H31: USD | I31: 300 | J31: USD | K31: =F31*G31*I31 -> 0 | L31: =K31/_xlfn.XLOOKUP(J31,Validation!$F$3:$F$12,Validation!$G$3:$G$12,0) -> 0
C32: Thailand (BKK) | D32: Airfare | E32: Person | G32: 1 | H32: USD | I32: 300 | J32: USD | K32: =F32*G32*I32 -> 0 | L32: =K32/_xlfn.XLOOKUP(J32,Validation!$F$3:$F$12,Validation!$G$3:$G$12,0) -> 0
C33: Malaysia (KL) | D33: Airfare | E33: Person | G33: 1 | H33: USD | I33: 300 | J33: USD | K33: =F33*G33*I33 -> 0 | L33: =K33/_xlfn.XLOOKUP(J33,Validation!$F$3:$F$12,Validation!$G$3:$G$12,0) -> 0
C34: Viet Nam (HAN) | D34: Airfare | E34: Person | G34: 1 | H34: USD | I34: 300 | J34: USD | K34: =F34*G34*I34 -> 0 | L34: =K34/_xlfn.XLOOKUP(J34,Validation!$F$3:$F$12,Validation!$G$3:$G$12,0) -> 0
C35: Australia (CBR) | D35: Airfare | E35: Person | G35: 1 | H35: USD | I35: 1350 | J35: USD | K35: =F35*G35*I35 -> 0 | L35: =K35/_xlfn.XLOOKUP(J35,Validation!$F$3:$F$12,Validation!$G$3:$G$12,0) -> 0
C36: New Zealand (WLG) | D36: Airfare | E36: Person | G36: 1 | H36: USD | I36: 1350 | J36: USD | K36: =F36*G36*I36 -> 0 | L36: =K36/_xlfn.XLOOKUP(J36,Validation!$F$3:$F$12,Validation!$G$3:$G$12,0) -> 0
C37: ASEAN Secretariate (CGK) | D37: Airfare | E37: Person | F37: 1 | G37: 1 | H37: USD | I37: 320 | J37: USD | K37: =F37*G37*I37 -> 320 | L37: =K37/_xlfn.XLOOKUP(J37,Validation!$F$3:$F$12,Validation!$G$3:$G$12,0) -> 489.37146
C38: RT4D (PNH) | D38: Airfare | E38: Person | F38: 1 | G38: 1 | H38: USD | I38: 300 | J38: USD | K38: =F38*G38*I38 -> 300 | L38: =K38/_xlfn.XLOOKUP(J38,Validation!$F$3:$F$12,Validation!$G$3:$G$12,0) -> 458.78575
C39: Technical consultant team | K39: =F39*G39*I39 -> 0
C40: Consultant 1 (SG) | D40: Airfare | E40: Person | F40: 1 | G40: 1 | H40: USD | I40: 200 | J40: USD | K40: =F40*G40*I40 -> 200 | L40: =K40/_xlfn.XLOOKUP(J40,Validation!$F$3:$F$12,Validation!$G$3:$G$12,0) -> 305.85716
C41: Consultant 2 (SG) | D41: Airfare | E41: Person | F41: 1 | G41: 1 | H41: USD | I41: 200 | J41: USD | K41: =F41*G41*I41 -> 200 | L41: =K41/_xlfn.XLOOKUP(J41,Validation!$F$3:$F$12,Validation!$G$3:$G$12,0) -> 305.85716
C42: Consultant 3 (CGK) | D42: Airfare | E42: Person | F42: 1 | G42: 1 | H42: USD | I42: 320 | J42: USD | K42: =F42*G42*I42 -> 320 | L42: =K42/_xlfn.XLOOKUP(J42,Validation!$F$3:$F$12,Validation!$G$3:$G$12,0) -> 489.37146
B44: 4.2.4 | C44: Event Facilitation Expenses | J44: =H44 -> 0 | L44: =SUM(L45:L46) -> 3574.0072 | M44: =L44 -> 3574.0072
B45: 4.2.4.1 | C45: Meeting package (including venue rental, lunch and coffee breaks, stationery) (receipt-based reimburseable expense) | D45: Meetings & Conferences | E45: Person | F45: =F9 -> 45 | G45: 1 | H45: MYR | I45: 220 | J45: =H45 -> MYR | K45: =F45*G45*I45 -> 9900 | L45: =K45/_xlfn.XLOOKUP(J45,Validation!$F$3:$F$12,Validation!$G$3:$G$12,0) -> 3574.0072 | N45: Note for bidders: The workshop will be organised at the training facility of the Intellectual Property Corporation of Malaysia (MyIPO). The selected bidder will be required to work with MyIPO to get a quote later.
B46: 4.2.4.2 | C46: Event organisation costs for one-day workshop (master of ceremony; print workshop materials, and so on) | D46: Meetings & Conferences | E46: Lumpsum | F46: 1 | G46: 1 | H46: MYR | J46: =H46 -> MYR | K46: =F46*G46*I46 -> 0 | L46: =K46/_xlfn.XLOOKUP(J46,Validation!$F$3:$F$12,Validation!$G$3:$G$12,0) -> 0 | N46: Bidders to complete: * Please provide cost breakdown for this line. Expenses in this line exclude meeting package costs (4.2.4.1) and rental of IT equipment for hosting a hybrid workshop (4.2.5). The photography and video project costs are in a sperate worksheet.
B47: 4.2.5 | C47: Rental of IT equipment for hosting a one-day hybrid workshop (receipt-based reimburseable expenses) | M47: =L47 -> 0 | N47: Bidders to complete: * Payment for the equipment rental costs is subject to confirmation from other ASEAN member states (AMS) on their online attendance. The consultant will be authorised to begin renting equipment once the relevant AMS's confirmation is approved. * Please provide cost breakdown for this line for the proposal costing purpose. This is receipt-based reimburseable expense.
...

Sheet Jakarta
B2: Item: | C2: Financial Proposal for Event Organisation
B3: Activity Name: | C3: Development of ASEAN Guidelines on AI-Generated and Digital Trademarks
B4: Currency: | C4: IDR/AUD
B6: Activity Code | C6: Activity Name | D6: Category | E6: Unit | F6: Quantity | G6: Days | H6: Currency | I6: Rate/unit | J6: Currency | K6: Total Cost | L6: Total Cost | M6: Total | N6: Remarks
L7: AUD | M7: Per Activity (AUD)
B8: 4.2 | C8: Total Cost Estimate for One-day in-country training workshop in Jakarta, Indonesia | M8: =M15+M20+M26+M44+M47+M49+M51 -> 14241.911
C9: Total number of attendants | F9: =SUM(F10:F13) -> 45
C10: Jakarta-based domestic participants | E10: Person | F10: 42
C11: Domestic participants outside Jakarta | E11: Person
C12: International participants | E12: Person | F12: =F26 -> 3
B15: 4.2.1 | C15: Expenses on Domestic participants outside of Jakarta (receipt-based reimburseable expenses) | L15: =SUM(L16:L19) -> 0 | M15: =L15 -> 0 | N15: Note for bidder: No expenditure is expected under this category.
B16: 4.2.1.1 | C16: Local participant allowances (3-day per diem) | D16: Local Per Diem | E16: Person | H16: USD | J16: =H16 -> USD | K16: =F16*G16*I16 -> 0 | L16: =K16/_xlfn.XLOOKUP(J16,Validation!$F$3:$F$12,Validation!$G$3:$G$12,0) -> 0
B17: 4.2.1.2 | C17: Accomodation for local participants (2 nights) | D17: Local Per Diem | E17: Person | H17: IDR | J17: =H17 -> IDR | K17: =F17*G17*I17 -> 0 | L17: =K17/_xlfn.XLOOKUP(J17,Validation!$F$3:$F$12,Validation!$G$3:$G$12,0) -> 0
B18: 4.2.1.3 | C18: Transportation for local participants (round trip) | D18: Local Per Diem | E18: Person | H18: IDR | J18: =H18 -> IDR | K18: =F18*G18*I18 -> 0 | L18: =K18/_xlfn.XLOOKUP(J18,Validation!$F$3:$F$12,Validation!$G$3:$G$12,0) -> 0
B20: 4.2.2 | C20: Expenses on International Participant (receipt-based reimburseable expenses) | J20: =H20 -> 0 | L20: =SUM(L21:L25) -> 2485.0961 | M20: =L20 -> 2485.0961
B21: 4.2.2.1 | C21: Participant Perdiem (3-day per diem) | D21: Overseas Per Diem | E21: Person | F21: =F26-F31 -> 3 | G21: 3 | H21: USD | I21: 93.28 | J21: =H21 -> USD | K21: =F21*G21*I21 -> 839.52 | L21: =K21/_xlfn.XLOOKUP(J21,Validation!$F$3:$F$12,Validation!$G$3:$G$12,0) -> 1283.866 | N21: Note for bidders: This budget is for costing purposes only. The actual payment will be based on participants' flight itineraries. RT4D will help calculate per diem for payment again when exact flight schedules are available.
B22: 4.2.2.2 | C22: Hotel Accommodation (2 nights) | D22: Accommodation | E22: Person | F22: =F26 -> 3 | G22: 2 | H22: IDR | I22: 1500000 | J22: =H22 -> IDR | K22: =F22*G22*I22 -> 9000000 | L22: =K22/_xlfn.XLOOKUP(J22,Validation!$F$3:$F$12,Validation!$G$3:$G$12,0) -> 848.09649 | N22: Note for bidders: This budget is for costing purposes only. The actual payment will be based on participants' actual receipts. The selected bidder must submit 3 hotel options for RT4D's approval.
B23: 4.2.2.3 | C23: Airport transfer in home country (2 ways) | D23: Local Transportation | E23: Person | F23: =F26 -> 3 | G23: 1 | H23: USD | I23: 40 | J23: =H23 -> USD | K23: =F23*G23*I23 -> 120 | L23: =K23/_xlfn.XLOOKUP(J23,Validation!$F$3:$F$12,Validation!$G$3:$G$12,0) -> 183.5143 | N23: Note for bidders: Actual arrangement can be discussed with travelling participants later. Receipt-based reimbursable expense.
B24: 4.2.2.4 | C24: Airport transfer in destination country (2 ways) | D24: Local Transportation | E24: Person | F24: =F26 -> 3 | G24: 1 | H24: IDR | I24: 600000 | J24: =H24 -> IDR | K24: =F24*G24*I24 -> 1800000 | L24: =K24/_xlfn.XLOOKUP(J24,Validation!$F$3:$F$12,Validation!$G$3:$G$12,0) -> 169.6193 | N24: Note for bidders: Actual arrangement will be decided with RT4D later.
B26: 4.2.3 | C26: Airfare - International round trip to Selangor City (receipt-based reimburseable expenses) | E26: Person | F26: =SUM(F28:F43) -> 3 | H26: USD | J26: =H26 -> USD | K26: =SUM(K28:K43) -> 2200 | L26: =SUM(L28:L43) -> 3364.4288 | M26: =L26 -> 3364.4288 | N26: Note for bidders: This budget is for costing purposes only. The actual payment will be based on participants' air ticket costs.
C27: Metrology Officials from FTA Parties | F27: =SUM(F28:F36) -> 0
C28: Cambodia (PNH) | D28: Airfare | E28: Person | G28: 1 | H28: USD | I28: 300 | J28: USD | K28: =F28*G28*I28 -> 0 | L28: =K28/_xlfn.XLOOKUP(J28,Validation!$F$3:$F$12,Validation!$G$3:$G$12,0) -> 0
C29: Indonesia (CGK) | D29: Airfare | E29: Person | G29: 1 | H29: USD | I29: 300 | J29: USD | K29: =F29*G29*I29 -> 0 | L29: =K29/_xlfn.XLOOKUP(J29,Validation!$F$3:$F$12,Validation!$G$3:$G$12,0) -> 0
C30: Lao PDR (VTE) | D30: Airfare | E30: Person | G30: 1 | H30: USD | I30: 300 | J30: USD | K30: =F30*G30*I30 -> 0 | L30: =K30/_xlfn.XLOOKUP(J30,Validation!$F$3:$F$12,Validation!$G$3:$G$12,0) -> 0
C31: Myanmar (RGN/NYT) | D31: Airfare | E31: Person | G31: 1 | H31: USD | I31: 300 | J31: USD | K31: =F31*G31*I31 -> 0 | L31: =K31/_xlfn.XLOOKUP(J31,Validation!$F$3:$F$12,Validation!$G$3:$G$12,0) -> 0
C32: Thailand (BKK) | D32: Airfare | E32: Person | G32: 1 | H32: USD | I32: 300 | J32: USD | K32: =F32*G32*I32 -> 0 | L32: =K32/_xlfn.XLOOKUP(J32,Validation!$F$3:$F$12,Validation!$G$3:$G$12,0) -> 0
C33: Malaysia (KL) | D33: Airfare | E33: Person | G33: 1 | H33: USD | I33: 300 | J33: USD | K33: =F33*G33*I33 -> 0 | L33: =K33/_xlfn.XLOOKUP(J33,Validation!$F$3:$F$12,Validation!$G$3:$G$12,0) -> 0
C34: Viet Nam (HAN) | D34: Airfare | E34: Person | G34: 1 | H34: USD | I34: 300 | J34: USD | K34: =F34*G34*I34 -> 0 | L34: =K34/_xlfn.XLOOKUP(J34,Validation!$F$3:$F$12,Validation!$G$3:$G$12,0) -> 0
C35: Australia (CBR) | D35: Airfare | E35: Person | G35: 1 | H35: USD | I35: 1350 | J35: USD | K35: =F35*G35*I35 -> 0 | L35: =K35/_xlfn.XLOOKUP(J35,Validation!$F$3:$F$12,Validation!$G$3:$G$12,0) -> 0
C36: New Zealand (WLG) | D36: Airfare | E36: Person | G36: 1 | H36: USD | I36: 1350 | J36: USD | K36: =F36*G36*I36 -> 0 | L36: =K36/_xlfn.XLOOKUP(J36,Validation!$F$3:$F$12,Validation!$G$3:$G$12,0) -> 0
C37: ASEAN Secretariate (CGK) | D37: Airfare | E37: Person | G37: 1 | H37: USD | I37: 320 | J37: USD | K37: =F37*G37*I37 -> 0 | L37: =K37/_xlfn.XLOOKUP(J37,Validation!$F$3:$F$12,Validation!$G$3:$G$12,0) -> 0
C38: RT4D (PNH) | D38: Airfare | E38: Person | F38: 1 | G38: 1 | H38: USD | I38: 800 | J38: USD | K38: =F38*G38*I38 -> 800 | L38: =K38/_xlfn.XLOOKUP(J38,Validation!$F$3:$F$12,Validation!$G$3:$G$12,0) -> 1223.4287
C39: Technical consultant team | K39: =F39*G39*I39 -> 0
C40: Consultant 1 (SG) | D40: Airfare | E40: Person | F40: 1 | G40: 1 | H40: USD | I40: 700 | J40: USD | K40: =F40*G40*I40 -> 700 | L40: =K40/_xlfn.XLOOKUP(J40,Validation!$F$3:$F$12,Validation!$G$3:$G$12,0) -> 1070.5001
C41: Consultant 2 (SG) | D41: Airfare | E41: Person | F41: 1 | G41: 1 | H41: USD | I41: 700 | J41: USD | K41: =F41*G41*I41 -> 700 | L41: =K41/_xlfn.XLOOKUP(J41,Validation!$F$3:$F$12,Validation!$G$3:$G$12,0) -> 1070.5001
C42: Consultant 3 (CGK) | D42: Airfare | E42: Person | H42: USD | J42: USD | K42: =F42*G42*I42 -> 0 | L42: =K42/_xlfn.XLOOKUP(J42,Validation!$F$3:$F$12,Validation!$G$3:$G$12,0) -> 0
B44: 4.2.4 | C44: Event Facilitation Expenses | J44: =H44 -> 0 | L44: =SUM(L45:L46) -> 3392.386 | M44: =L44 -> 3392.386
B45: 4.2.4.1 | C45: Meeting package (including venue rental, lunch and coffee breaks, stationery) (receipt-based reimburseable expense) | D45: Meetings & Conferences | E45: Person | F45: =F9 -> 45 | G45: 1 | H45: IDR | I45: 800000 | J45: =H45 -> IDR | K45: =F45*G45*I45 -> 36000000 | L45: =K45/_xlfn.XLOOKUP(J45,Validation!$F$3:$F$12,Validation!$G$3:$G$12,0) -> 3392.386 | N45: Note for bidder: target a 4-start hotel
B46: 4.2.4.2 | C46: Event organisation costs for one-day workshop (master of ceremony; print workshop materials, and so on) | D46: Meetings & Conferences | E46: Lumpsum | F46: 1 | G46: 1 | H46: IDR | J46: =H46 -> IDR | K46: =F46*G46*I46 -> 0 | L46: =K46/_xlfn.XLOOKUP(J46,Validation!$F$3:$F$12,Validation!$G$3:$G$12,0) -> 0 | N46: Bidder to complete: * Please provide cost breakdown for this line. Expenses in this line exclude meeting package costs (4.2.4.1) and rentel of IP equipment for hosting a hybrid workshop (4.2.5). The photography and video project costs are in a sperate worksheet.
B47: 4.2.5 | C47: Rental of IT equipment for hosting a one-day hybrid workshop (receipt-based reimburseable expenses) | M47: =L47 -> 0 | N47: Bidders to complete: * Payment for the equipment rental costs is subject to confirmation from other ASEAN member states (AMS) on their online attendance. The consultant will be authorised to begin renting equipment once the relevant AMS's confirmation is approved. * Please provide cost breakdown for this line for the proposal costing purpose. This is receipt-based reimburseable expense.
...

Sheet Participants Cost
B2: Country | C2: DSA (USD/day) | D2: Room % of DSA | E2: Lodging Portion (USD) per Day | F2: Overseas Per Diem | G2: Local Per diem* | H2: Notes for Local Per diem | I2: Local Transportation/way* | J2: Notes for Local Transportation
B3: Vietnam | C3: 240 | D3: 0.55 | E3: =C3*D3 -> 132 | F3: =C3-E3 -> 108 | G3: 34 | H3: Covers local travel, minor refreshments, and incidental expenses | I3: 12 | J3: Common practice for urban areas (e.g., Hanoi/Ho Chi Minh)
B4: Cambodia | C4: 340 | D4: 0.5 | E4: =C4*D4 -> 170 | F4: =C4-E4 -> 170 | G4: 10 | H4: Same as above; often used by NGOs and donor programs | I4: 10 | J4: NGO standard; sufficient for tuk-tuk or Grab use
B5: Laos | C5: 300 | D5: 0.6 | E5: =C5*D5 -> 180 | F5: =C5-E5 -> 120 | G5: 10 | H5: Aligned with practice of reducing DSA when meals are covered | I5: 10 | J5: Common NGO standard
B6: Kuala Lumpur | C6: 283 | D6: 0.71 | E6: =C6*D6 -> 200.93 | F6: =C6-E6 -> 82.07 | G6: 12 | H6: Higher incidental costs; transport via Grab/rail | I6: 10 | J6: Based on Grab/public transport cost per day
B7: Siem Reap | C7: 333 | D7: 0.68 | E7: =C7*D7 -> 226.44 | F7: =C7-E7 -> 106.56 | G7: 10 | H7: Similar to Phnom Penh standards | I7: 10 | J7: Similar to Phnom Penh; tuk-tuk or small taxi travel
B8: Bangkok* | C8: 300 | D8: 0.6 | E8: =C8*D8 -> 180 | F8: =C8-E8 -> 120 | G8: 12 | H8: Urban cost + BTS/MRT or taxi allowance | I8: 12 | J8: BTS/MRT + short taxi rides (urban average)
B9: Manila* | C9: 350 | D9: 0.55 | E9: =C9*D9 -> 192.5 | F9: =C9-E9 -> 157.5 | G9: 12 | H9: Considered reasonable in NGO/multilateral program budgeting | I9: 12 | J9: Jeepney, GrabCar, MRT costs considered
B10: Indonesia | C10: 212 | D10: 0.56 | E10: =C10*D10 -> 118.72 | F10: =C10-E10 -> 93.28 | G10: 12 | H10: Jakarta/urban context; local norms vary by agency | I10: 10 | J10: Urban ride-hailing (GoJek/Grab) or local taxi norms
B13: *Estimated - Subject to Approval
B14: ** Overseas Per Diem refer to | D14: https://icsc.un.org/Home/DailySubsistence
B16: Meeting Package (USD)
B17: City | C17: Average | D17: Lowest | E17: Highest | F17: Notes & Sources
B18: Vientiane | C18: =AVERAGE(D18:E18) -> 122.5 | D18: 60 | E18: 185 | F18: Very affordable, with entry-level packages around $60 and luxury setups reaching $180+.
B19: Phnom Penh | C19: =AVERAGE(D19:E19) -> 242.5 | D19: 70 | E19: 415 | F19: Wide range—venue-only rates up to $415—expect $100–300 for inclusive full-day
B20: Hanoi | C20: =AVERAGE(D20:E20) -> 77.5 | D20: 65 | E20: 90 | F20: Mid-range ~ $70–110; premium intercontinental packages ~$110+.
B21: Manila | C21: =AVERAGE(D21:E21) -> 100 | D21: 50 | E21: 150 | F21: Limited public pricing
B22: Bangkok | C22: =AVERAGE(D22:E22) -> 55 | D22: 50 | E22: 60 | F22: Typical range ~ $45–75, with premium options slightly higher
B23: Kuala Lumpur | C23: =AVERAGE(D23:E23) -> 65 | D23: 50 | E23: 80 | F23: Most meeting packages fall between $70–80 per person full-day.
B24: Jakarta | C24: =AVERAGE(D24:E24) -> 70.5 | D24: 46 | E24: 95 | F24: Le Méridien offers a spectrum from half-day engagement to premium full-board options. Gran Mahakam provides slightly lower-priced meeting options. Expect half-day at ~$52, full-day at ~$59 (excluding taxes), and full‑board begins at ~$95 before tax/service
B26: Local Participants Per diem
B27: Country | C27: Per Diem (USD/day) | D27: Lowest | G27: Basis & Notes
B28: Vietnam | C28: =AVERAGE(D28:E28) -> 45 | D28: 35 | E28: 55 | G28: Meals + incidentals; lower if meals provided
B29: Cambodia | C29: $35 – $50 | D29: 35 | E29: 50 | G29: Often aligned with gov’t or NGO rates
B30: Laos | C30: $35 – $50 | D30: 35 | E30: 50 | G30: Consistent with DFAT/UN project norms
B31: Kuala Lumpur | C31: $40 – $65 | D31: 40 | E31: 65 | G31: Reflects higher urban cost (meals, transport)
B32: Siem Reap | C32: $35 – $50 | D32: 35 | E32: 50 | G32: Similar to Phnom Penh for local participants
B33: Bangkok* | C33: $40 – $65 | D33: 40 | E33: 65 | G33: NGOs apply ~30–40% of int’l DSA
B34: Manila* | C34: $40 – $65 | D34: 40 | E34: 65 | G34: Urban cost, meals partially included
B35: Indonesia | C35: $35 – $55 | D35: 35 | E35: 55 | G35: Jakarta/Bali context; varies by city/partner
B37: Key Assumptions:
B38: These apply to local (national) participants only, not international staff.
B39: Includes lodging, meals, and incidental costs unless otherwise covered.
B40: If meals and venue are provided, a reduced allowance of $10–$15/day is common.
B41: These are not government rates, but typical for NGO/INGO budgeting.

Sheet PhotoVideo
B2: Item: | C2: Financial Proposal for Event Organisation
B3: Activity Name: | C3: Development of ASEAN Guidelines on AI-Generated and Digital Trademarks
B4: Currency: | C4: MYR/IDR/AUD
B6: Activity Code | C6: Activity Name | D6: Category | E6: Unit | F6: Quantity | G6: Days | H6: Currency | I6: Rate/unit | J6: Currency | K6: Total Cost | L6: Total Cost | M6: Total | N6: Remarks
L7: AUD | M7: Per Activity (AUD)
B8: 4.3 | C8: Total Cost Estimate for photography and project impact video production services | M8: =M10+M15+M20+M23+M25 -> 6000
B10: 4.3.1 | C10: Photography and Production of Video Footage (including participant interviews) of Workshop in Selangor, Malaysia | L10: =SUM(L11:L14) -> 0 | M10: =L10 -> 0 | N10: Note for bidders: Please provide cost breakdown for each of the line below.
B11: 4.3.1.1 | C11: Photography service | D11: Communications | E11: Event | F11: 1 | G11: 1 | H11: MYR | J11: =H11 -> MYR | K11: =F11*G11*I11 -> 0 | L11: =K11/_xlfn.XLOOKUP(J11,Validation!$F$3:$F$12,Validation!$G$3:$G$12,0) -> 0
B12: 4.3.1.2 | C12: Production of video footage and participant interview at the workshop | D12: Communications | E12: Event | F12: 1 | G12: 1 | H12: MYR | J12: =H12 -> MYR | K12: =F12*G12*I12 -> 0 | L12: =K12/_xlfn.XLOOKUP(J12,Validation!$F$3:$F$12,Validation!$G$3:$G$12,0) -> 0
B15: 4.3.2 | C15: Photography and Production of Video Footage (including participant interviews) of Workshop in Selangor, Malaysia | J15: =H15 -> 0 | L15: =SUM(L16:L18) -> 0 | M15: =L15 -> 0 | N15: Note for bidders: Please provide cost breakdown for each of the line below.
B16: 4.3.2.1 | C16: Photography service | D16: Communications | E16: Event | F16: 1 | G16: 1 | H16: IDR | J16: =H16 -> IDR | K16: =F16*G16*I16 -> 0 | L16: =K16/_xlfn.XLOOKUP(J16,Validation!$F$3:$F$12,Validation!$G$3:$G$12,0) -> 0
B17: 4.3.2.2 | C17: Production of video footage and participants interviews | D17: Communications | E17: Event | F17: 1 | G17: 1 | H17: IDR | J17: =H17 -> IDR | K17: =F17*G17*I17 -> 0 | L17: =K17/_xlfn.XLOOKUP(J17,Validation!$F$3:$F$12,Validation!$G$3:$G$12,0) -> 0
B20: 4.3.3. | C20: Production of a Project Impact Video | J20: =H20 -> 0 | L20: =SUM(L21:L21) -> 0 | N20: Note for bidders: Please provide cost breakdown for each of the line below.
B21: 4.3.3.1 | D21: Professional Services | E21: Lumpsum | G21: 1 | H21: AUD | J21: =H21 -> AUD | K21: =F21*G21*I21 -> 0 | L21: =K21/_xlfn.XLOOKUP(J21,Validation!$F$3:$F$12,Validation!$G$3:$G$12,0) -> 0
B22: 4.3.3.2
B23: 4.2.5 | C23: Contingency Budget | D23: Professional Services | E23: Lumpsum | J23: =H23 -> 0 | K23: =F23*G23*I23 -> 0 | L23: 6000 | M23: =IFERROR(SUMIFS(L:L, B:B, B23 & "*"), "") -> 6000 | N23: Utilise based on RT4D budget
B25: 4.2.6 | C25: Video Production Management Cost | D25: Professional Services | E25: Event | J25: =H25 -> 0 | K25: =F25*G25*I25 -> 0 | M25: =IFERROR(SUMIFS(L:L, B:B, B25 & "*"), "") -> 0 | N25: Note for bidders: Please provide cost breakdown for each of the line below.

Sheet Validation
A2: EXPENDITURE CATEGORY | B2: EXPENDITURE TYPE | D2: Quantity CATEGORY | F2: Unit Currency | G2: Conversion Rate to AUD
A3: Other Direct Costs | B3: Bank Charges | D3: Pax | F3: AUD | G3: 1
A4: Other Direct Costs | B4: Communications | D4: Person | F4: USD | G4: 0.6539
A5: Other Direct Costs | B5: Courier Services | D5: One way | F5: LAK | G5: 14015
A6: Other Direct Costs | B6: Meetings & Conferences | D6: Return | F6: IDR | G6: 10612
A7: Other Direct Costs | B7: Office Expenses | D7: Lumpsum | F7: VND | G7: 17106
A8: Other Direct Costs | B8: Professional Services | D8: Km | F8: MYR | G8: 2.77
A9: Other Direct Costs | B9: Recruitment | D9: Pieces | F9: SGD | G9: 0.836
A10: Other Direct Costs | B10: Translation Services | D10: Unit | F10: NZD | G10: 1.087
A11: Other Direct Costs | B11: Workshops | D11: Event | F11: THB | G11: 21.26
A12: Other Direct Costs | B12: Utilities | D12: Hour | F12: PHP | G12: 39.12
A13: Subcontractors | B13: Subcontractor-External | D13: Day
A14: Travel | B14: Airfare | D14: Monthly
A15: Travel | B15: Accommodation | D15: Annual
A16: Travel | B16: Local Transportation | D16: Semester
A17: Travel | B17: Overseas Per Diem | D17: Quaterly
A18: Travel | B18: Incidental Travel
A19: Travel | B19: Local Per Diem
A20: Travel | B20: Other Allowance
